BEGIN:VCALENDAR
VERSION:2.0
PRODID:-//Konjeniški klub Stol - ECPv5.2.1.1//NONSGML v1.0//EN
CALSCALE:GREGORIAN
METHOD:PUBLISH
X-WR-CALNAME:Konjeniški klub Stol
X-ORIGINAL-URL:https://kkstol.si
X-WR-CALDESC:Events for Konjeniški klub Stol
BEGIN:VTIMEZONE
TZID:Europe/Helsinki
BEGIN:DAYLIGHT
TZOFFSETFROM:+0200
TZOFFSETTO:+0300
TZNAME:EEST
DTSTART:20250330T010000
END:DAYLIGHT
BEGIN:STANDARD
TZOFFSETFROM:+0300
TZOFFSETTO:+0200
TZNAME:EET
DTSTART:20251026T010000
END:STANDARD
END:VTIMEZONE
BEGIN:VEVENT
DTSTART;TZID=Europe/Helsinki:20251019T103000
DTEND;TZID=Europe/Helsinki:20251019T170000
DTSTAMP:20260424T191151
CREATED:20251012T085833Z
LAST-MODIFIED:20251012T085838Z
UID:9574-1760869800-1760893200@kkstol.si
SUMMARY:TEKMA V SPRETNOSTNEM JAHANJU
DESCRIPTION:
URL:https://kkstol.si/dogodek/tekma-v-spretnostnem-jahanju/
LOCATION:Prostor KK Stol
END:VEVENT
END:VCALENDAR