BEGIN:VCALENDAR
VERSION:2.0
PRODID:-//Konjeniški klub Stol - ECPv5.2.1.1//NONSGML v1.0//EN
CALSCALE:GREGORIAN
METHOD:PUBLISH
X-WR-CALNAME:Konjeniški klub Stol
X-ORIGINAL-URL:https://kkstol.si
X-WR-CALDESC:Events for Konjeniški klub Stol
BEGIN:VTIMEZONE
TZID:Europe/Helsinki
BEGIN:DAYLIGHT
TZOFFSETFROM:+0200
TZOFFSETTO:+0300
TZNAME:EEST
DTSTART:20210328T010000
END:DAYLIGHT
BEGIN:STANDARD
TZOFFSETFROM:+0300
TZOFFSETTO:+0200
TZNAME:EET
DTSTART:20211031T010000
END:STANDARD
END:VTIMEZONE
BEGIN:VEVENT
DTSTART;TZID=Europe/Helsinki:20210816T090000
DTEND;TZID=Europe/Helsinki:20210816T140000
DTSTAMP:20260425T053929
CREATED:20210808T084019Z
LAST-MODIFIED:20210808T085227Z
UID:8656-1629104400-1629122400@kkstol.si
SUMMARY:ROMANJE NA BREZJE
DESCRIPTION:
URL:https://kkstol.si/dogodek/romanje-na-brezje-2/
LOCATION:Parkirni prostor KK Stol-Brezje\, Breznica-Vrba
END:VEVENT
END:VCALENDAR