BEGIN:VCALENDAR
VERSION:2.0
PRODID:-//Konjeniški klub Stol - ECPv5.2.1.1//NONSGML v1.0//EN
CALSCALE:GREGORIAN
METHOD:PUBLISH
X-WR-CALNAME:Konjeniški klub Stol
X-ORIGINAL-URL:https://kkstol.si
X-WR-CALDESC:Events for Konjeniški klub Stol
BEGIN:VTIMEZONE
TZID:Europe/Helsinki
BEGIN:DAYLIGHT
TZOFFSETFROM:+0200
TZOFFSETTO:+0300
TZNAME:EEST
DTSTART:20220327T010000
END:DAYLIGHT
BEGIN:STANDARD
TZOFFSETFROM:+0300
TZOFFSETTO:+0200
TZNAME:EET
DTSTART:20221030T010000
END:STANDARD
END:VTIMEZONE
BEGIN:VEVENT
DTSTART;TZID=Europe/Helsinki:20221016T100000
DTEND;TZID=Europe/Helsinki:20221016T150000
DTSTAMP:20260424T221649
CREATED:20221009T084318Z
LAST-MODIFIED:20221009T084318Z
UID:8945-1665914400-1665932400@kkstol.si
SUMMARY:DRŽAVNO PRVENSTVO V SPRETNOSTNI VOŽNJI ENO IN DVOVPREG
DESCRIPTION:
URL:https://kkstol.si/dogodek/drzavno-prvenstvo-v-spretnostni-voznji-eno-in-dvovpreg/
LOCATION:Konjeniški klub Stol\, Žirovnica 59\, Žirovnica\, 4274
ORGANIZER;CN="Konjeni%C5%A1ki%20klub%20Stol":MAILTO:konj.klub.stol@gmail.com
END:VEVENT
END:VCALENDAR