BEGIN:VCALENDAR
VERSION:2.0
PRODID:-//Konjeniški klub Stol - ECPv5.2.1.1//NONSGML v1.0//EN
CALSCALE:GREGORIAN
METHOD:PUBLISH
X-WR-CALNAME:Konjeniški klub Stol
X-ORIGINAL-URL:https://kkstol.si
X-WR-CALDESC:Events for Konjeniški klub Stol
BEGIN:VTIMEZONE
TZID:Europe/Helsinki
BEGIN:DAYLIGHT
TZOFFSETFROM:+0200
TZOFFSETTO:+0300
TZNAME:EEST
DTSTART:20210328T010000
END:DAYLIGHT
BEGIN:STANDARD
TZOFFSETFROM:+0300
TZOFFSETTO:+0200
TZNAME:EET
DTSTART:20211031T010000
END:STANDARD
END:VTIMEZONE
BEGIN:VEVENT
DTSTART;TZID=Europe/Helsinki:20211003T090000
DTEND;TZID=Europe/Helsinki:20211003T170000
DTSTAMP:20260425T014747
CREATED:20210928T055654Z
LAST-MODIFIED:20210928T055716Z
UID:8721-1633251600-1633280400@kkstol.si
SUMMARY:DAN SLOVENSKEGA HLADNOKRVNEGA KONJA
DESCRIPTION:
URL:https://kkstol.si/dogodek/dan-slovenskega-hladnokrvnega-konja/
LOCATION:Konjeniški klub Stol\, Žirovnica 59\, Žirovnica\, 4274
ORGANIZER;CN="Konjeni%C5%A1ki%20klub%20Stol":MAILTO:konj.klub.stol@gmail.com
END:VEVENT
END:VCALENDAR