BEGIN:VCALENDAR
VERSION:2.0
PRODID:-//Konjeniški klub Stol - ECPv5.2.1.1//NONSGML v1.0//EN
CALSCALE:GREGORIAN
METHOD:PUBLISH
X-WR-CALNAME:Konjeniški klub Stol
X-ORIGINAL-URL:https://kkstol.si
X-WR-CALDESC:Events for Konjeniški klub Stol
BEGIN:VTIMEZONE
TZID:Europe/Helsinki
BEGIN:DAYLIGHT
TZOFFSETFROM:+0200
TZOFFSETTO:+0300
TZNAME:EEST
DTSTART:20210328T010000
END:DAYLIGHT
BEGIN:STANDARD
TZOFFSETFROM:+0300
TZOFFSETTO:+0200
TZNAME:EET
DTSTART:20211031T010000
END:STANDARD
END:VTIMEZONE
BEGIN:VEVENT
DTSTART;TZID=Europe/Helsinki:20210911T110000
DTEND;TZID=Europe/Helsinki:20210911T150000
DTSTAMP:20260425T033842
CREATED:20210908T171117Z
LAST-MODIFIED:20210908T171117Z
UID:8715-1631358000-1631372400@kkstol.si
SUMMARY:DAN ODPRTIH VRAT
DESCRIPTION:
URL:https://kkstol.si/dogodek/dan-odprtih-vrat/
LOCATION:Konjeniški klub Stol\, Žirovnica 59\, Žirovnica\, 4274
ORGANIZER;CN="Konjeni%C5%A1ki%20klub%20Stol":MAILTO:konj.klub.stol@gmail.com
END:VEVENT
END:VCALENDAR